BEGIN:VCALENDAR
VERSION:2.0
PRODID:-//Church of the Redeemer - ECPv6.11.2//NONSGML v1.0//EN
CALSCALE:GREGORIAN
METHOD:PUBLISH
X-ORIGINAL-URL:https://redeemernorthshore.org
X-WR-CALDESC:Events for Church of the Redeemer
REFRESH-INTERVAL;VALUE=DURATION:PT1H
X-Robots-Tag:noindex
X-PUBLISHED-TTL:PT1H
BEGIN:VTIMEZONE
TZID:America/Chicago
BEGIN:DAYLIGHT
TZOFFSETFROM:-0600
TZOFFSETTO:-0500
TZNAME:CDT
DTSTART:20230312T080000
END:DAYLIGHT
BEGIN:STANDARD
TZOFFSETFROM:-0500
TZOFFSETTO:-0600
TZNAME:CST
DTSTART:20231105T070000
END:STANDARD
END:VTIMEZONE
BEGIN:VEVENT
DTSTART;TZID=America/Chicago:20230806T100000
DTEND;TZID=America/Chicago:20230806T110000
DTSTAMP:20260420T145130
CREATED:20201119T183107Z
LAST-MODIFIED:20230324T163135Z
UID:12820-1691316000-1691319600@redeemernorthshore.org
SUMMARY:Worship and Holy Eucharist
DESCRIPTION:Learn more at our Worship and Connection page. \nThis service is available via livestream and in person. \nSubscribe to our email updates to receive a weekly link to the livestream and a digital copy of our bulletin.
URL:https://redeemernorthshore.org/event/worship-livestream-2021-04-04-2023-08-06/
END:VEVENT
BEGIN:VEVENT
DTSTART;TZID=America/Chicago:20230813T100000
DTEND;TZID=America/Chicago:20230813T110000
DTSTAMP:20260420T145130
CREATED:20201119T183107Z
LAST-MODIFIED:20230324T163135Z
UID:12821-1691920800-1691924400@redeemernorthshore.org
SUMMARY:Worship and Holy Eucharist
DESCRIPTION:Learn more at our Worship and Connection page. \nThis service is available via livestream and in person. \nSubscribe to our email updates to receive a weekly link to the livestream and a digital copy of our bulletin.
URL:https://redeemernorthshore.org/event/worship-livestream-2021-04-04-2023-08-13/
END:VEVENT
BEGIN:VEVENT
DTSTART;TZID=America/Chicago:20230820T100000
DTEND;TZID=America/Chicago:20230820T110000
DTSTAMP:20260420T145130
CREATED:20201119T183107Z
LAST-MODIFIED:20230324T163136Z
UID:12822-1692525600-1692529200@redeemernorthshore.org
SUMMARY:Worship and Holy Eucharist
DESCRIPTION:Learn more at our Worship and Connection page. \nThis service is available via livestream and in person. \nSubscribe to our email updates to receive a weekly link to the livestream and a digital copy of our bulletin.
URL:https://redeemernorthshore.org/event/worship-livestream-2021-04-04-2023-08-20/
END:VEVENT
BEGIN:VEVENT
DTSTART;TZID=America/Chicago:20230822T190000
DTEND;TZID=America/Chicago:20230822T210000
DTSTAMP:20260420T145130
CREATED:20230815T155840Z
LAST-MODIFIED:20230815T155840Z
UID:13115-1692730800-1692738000@redeemernorthshore.org
SUMMARY:Vestry Meeting
DESCRIPTION:
URL:https://redeemernorthshore.org/event/vestry-meeting/
END:VEVENT
BEGIN:VEVENT
DTSTART;TZID=America/Chicago:20230827T100000
DTEND;TZID=America/Chicago:20230827T110000
DTSTAMP:20260420T145130
CREATED:20201119T183107Z
LAST-MODIFIED:20230324T163137Z
UID:12823-1693130400-1693134000@redeemernorthshore.org
SUMMARY:Worship and Holy Eucharist
DESCRIPTION:Learn more at our Worship and Connection page. \nThis service is available via livestream and in person. \nSubscribe to our email updates to receive a weekly link to the livestream and a digital copy of our bulletin.
URL:https://redeemernorthshore.org/event/worship-livestream-2021-04-04-2023-08-27/
END:VEVENT
END:VCALENDAR